BEGIN:VCALENDAR
VERSION:2.0
PRODID:-//Library Market//iCal Export//EN
BEGIN:VEVENT
SUMMARY:Pokémon Club
UID:10737
DTSTAMP:20260420T013200Z
DTSTART:20260520T210000Z
DTEND:20260520T223000Z
LOCATION:Marshalltown Public Library, 105 West Boone St, Marshalltown, IA 
 50158, United States
ROOM: Pokémon Club
DESCRIPTION:Youth ages 8 and older are invited to stop by the large meetin
 g room to connect with other Pokémon fans. Battle with others (or learn h
 ow to play, if needed), trading permitted (with coordinator approval). Th
 e library has a limited number of &quot;loaner&quot; decks (for use during
  the Club) for those who want to learn how to play, but don&#039;t have a 
 full deck of their own. Small Pokemon-related prizes are earned for those 
 who attend Club regularly. This Club is free and does not require pre-reg
 istration. For questions about any youth program or service, please call 6
 41-754-5738, ext. 3. 
URL:https://marshalltown.librarycalendar.com/index.php/event/pokemon-club-
 10737
END:VEVENT
END:VCALENDAR
