BEGIN:VCALENDAR
VERSION:2.0
PRODID:-//Library Market//iCal Export//EN
BEGIN:VEVENT
SUMMARY:Pokémon Club
UID:10722
DTSTAMP:20260423T042700Z
DTSTART:20260617T190000Z
DTEND:20260617T210000Z
LOCATION:Marshalltown Public Library, 105 West Boone St, Marshalltown, IA 
 50158, United States
ROOM: Pokémon Club
DESCRIPTION:Youth (1st-12th grades) and older are invited to stop by the l
 arge meeting room to connect with other Pokémon fans, battle, or learn ho
 w to play, if needed. Trading is permitted (with coordinator approval). T
 he library has a limited number of &quot;loaner&quot; decks (for use durin
 g the Club) for those who want to learn how to play, but don&#039;t have a
  full deck of their own. Pokemon-related prizes are earned for those who a
 ttend Club regularly. This Club is free and does not require pre-registra
 tion. For questions about any youth program or service, please call 641-75
 4-5738, ext. 3. Please note that youth younger than 8 years need to have a
  caregiver accompany them. 
URL:https://marshalltown.librarycalendar.com/index.php/event/pokemon-club-
 10722
END:VEVENT
END:VCALENDAR
